BEGIN:VCALENDAR
VERSION:2.0
PRODID:-//Super Show//EVENT 1.0//EN
METHOD:PUBLISH
BEGIN:VEVENT
SUMMARY:Edenbridge & Oxted Show 2026
UID:7e74065bada0d171cdfb1a9714ca5a75
SEQUENCE:0
DTSTART:20260830T090000
DTEND:20260831T200000
ORGANIZER;CN=Edenbridge & Oxted Agricultural Show:MAILTO:info@edenbridge-show.co.uk
LOCATION:Ardenrun Showground, Tandridge Lane, Lingfield, England, RH7 6LL, United Kingdom
DTSTAMP:20260422T222914
DESCRIPTION:
URL:https://edenbridge-show.co.uk/events/edenbridge-oxted-show-2026
END:VEVENT
END:VCALENDAR